ENVI
description = { File Imported into ENVI.}
samples = 3600
lines = 3600
bands = 1
header offset = 0
file type = ENVI Standard
data type = 2
interleave = bsq
sensor type = Unknown
byte order = 0
map info = {Geographic Lat/Lon, 1.0000, 1.0000, 60.00000000, 60.00000000, 3.3333330000e-02, 3.3333330000e-02, WGS-84, units=Degrees}
wavelength units = Unknown
